BEGIN:VCALENDAR
VERSION:2.0
METHOD:PUBLISH
PRODID:HARDFORCE-Calendar-v1
CALSCALE:GREGORIAN
BEGIN:VTIMEZONE
TZID:Europe/Paris
X-LIC-LOCATION:Europe/Paris
BEGIN:DAYLIGHT
TZOFFSETFROM:+0100
TZOFFSETTO:+0200
TZNAME:CEST
DTSTART:19700329T020000
RRULE:FREQ=YEARLY;BYMONTH=3;BYDAY=-1SU
END:DAYLIGHT
BEGIN:STANDARD
TZOFFSETFROM:+0200
TZOFFSETTO:+0100
TZNAME:CET
DTSTART:19701025T030000
RRULE:FREQ=YEARLY;BYMONTH=10;BYDAY=-1SU
END:STANDARD
END:VTIMEZONE
BEGIN:VEVENT
UID:69ed12f0790ac-concert-17614
DTSTAMP:20260425T211600Z
CATEGORIES:concert
LOCATION:Le Bocksons Festival - Valentigney\, France
DESCRIPTION:Ashen (tête d'affiche)
URL;VALUE=URI:https://hardforce.com/concert/17614/ashen-2026-06-05
SUMMARY:Ashen
DTSTART;VALUE=DATE:20260605
DTEND;VALUE=DATE:20260606
END:VEVENT
END:VCALENDAR