BEGIN:VCALENDAR
VERSION:2.0
METHOD:PUBLISH
PRODID:HARDFORCE-Calendar-v1
CALSCALE:GREGORIAN
BEGIN:VTIMEZONE
TZID:Europe/Paris
X-LIC-LOCATION:Europe/Paris
BEGIN:DAYLIGHT
TZOFFSETFROM:+0100
TZOFFSETTO:+0200
TZNAME:CEST
DTSTART:19700329T020000
RRULE:FREQ=YEARLY;BYMONTH=3;BYDAY=-1SU
END:DAYLIGHT
BEGIN:STANDARD
TZOFFSETFROM:+0200
TZOFFSETTO:+0100
TZNAME:CET
DTSTART:19701025T030000
RRULE:FREQ=YEARLY;BYMONTH=10;BYDAY=-1SU
END:STANDARD
END:VTIMEZONE
BEGIN:VEVENT
UID:69e5e481ed2d4-concert-17732
DTSTAMP:20260420T103201Z
CATEGORIES:concert
LOCATION:Le Trabendo - Paris\, France
DESCRIPTION:Villagers Of Ioannina City (tête d'affiche)
URL;VALUE=URI:https://hardforce.com/concert/17732/villagers-of-ioannina-city-2026-03-20
SUMMARY:Villagers of Ioannina City
DTSTART;VALUE=DATE:20260320
DTEND;VALUE=DATE:20260321
END:VEVENT
END:VCALENDAR