BEGIN:VCALENDAR
VERSION:2.0
METHOD:PUBLISH
PRODID:HARDFORCE-Calendar-v1
CALSCALE:GREGORIAN
BEGIN:VTIMEZONE
TZID:Europe/Paris
X-LIC-LOCATION:Europe/Paris
BEGIN:DAYLIGHT
TZOFFSETFROM:+0100
TZOFFSETTO:+0200
TZNAME:CEST
DTSTART:19700329T020000
RRULE:FREQ=YEARLY;BYMONTH=3;BYDAY=-1SU
END:DAYLIGHT
BEGIN:STANDARD
TZOFFSETFROM:+0200
TZOFFSETTO:+0100
TZNAME:CET
DTSTART:19701025T030000
RRULE:FREQ=YEARLY;BYMONTH=10;BYDAY=-1SU
END:STANDARD
END:VTIMEZONE
BEGIN:VEVENT
UID:69ec97dced6ac-concert-17759
DTSTAMP:20260425T123052Z
CATEGORIES:concert
LOCATION:L'Elysée Montmartre - Paris\, France
DESCRIPTION:Dayseeker (tête d'affiche)\, Northlane\, Siamese
URL;VALUE=URI:https://hardforce.com/concert/17759/dayseeker-2026-12-08
SUMMARY:Dayseeker
DTSTART;VALUE=DATE:20261208
DTEND;VALUE=DATE:20261209
END:VEVENT
END:VCALENDAR