BEGIN:VCALENDAR
VERSION:2.0
METHOD:PUBLISH
PRODID:HARDFORCE-Calendar-v1
CALSCALE:GREGORIAN
BEGIN:VTIMEZONE
TZID:Europe/Paris
X-LIC-LOCATION:Europe/Paris
BEGIN:DAYLIGHT
TZOFFSETFROM:+0100
TZOFFSETTO:+0200
TZNAME:CEST
DTSTART:19700329T020000
RRULE:FREQ=YEARLY;BYMONTH=3;BYDAY=-1SU
END:DAYLIGHT
BEGIN:STANDARD
TZOFFSETFROM:+0200
TZOFFSETTO:+0100
TZNAME:CET
DTSTART:19701025T030000
RRULE:FREQ=YEARLY;BYMONTH=10;BYDAY=-1SU
END:STANDARD
END:VTIMEZONE
BEGIN:VEVENT
UID:69ebe66e0675a-concert-17853
DTSTAMP:20260424T235350Z
CATEGORIES:concert
LOCATION:Le Marché Gare - Lyon\, France
DESCRIPTION:Future Palace (tête d'affiche)\, As Everything Unfolds\, Luna Kills
URL;VALUE=URI:https://hardforce.com/concert/17853/future-palace-2026-11-10
SUMMARY:Future Palace
DTSTART;VALUE=DATE:20261110
DTEND;VALUE=DATE:20261111
END:VEVENT
END:VCALENDAR