BEGIN:VCALENDAR
VERSION:2.0
METHOD:PUBLISH
PRODID:HARDFORCE-Calendar-v1
CALSCALE:GREGORIAN
BEGIN:VTIMEZONE
TZID:Europe/Paris
X-LIC-LOCATION:Europe/Paris
BEGIN:DAYLIGHT
TZOFFSETFROM:+0100
TZOFFSETTO:+0200
TZNAME:CEST
DTSTART:19700329T020000
RRULE:FREQ=YEARLY;BYMONTH=3;BYDAY=-1SU
END:DAYLIGHT
BEGIN:STANDARD
TZOFFSETFROM:+0200
TZOFFSETTO:+0100
TZNAME:CET
DTSTART:19701025T030000
RRULE:FREQ=YEARLY;BYMONTH=10;BYDAY=-1SU
END:STANDARD
END:VTIMEZONE
BEGIN:VEVENT
UID:69eb738b88ca0-concert-17860
DTSTAMP:20260424T154339Z
CATEGORIES:concert
LOCATION:Le Dodu - Marseille\, France
DESCRIPTION:Aephanemer (tête d'affiche)
URL;VALUE=URI:https://hardforce.com/concert/17860/aephanemer-2026-09-11
SUMMARY:Aephanemer
DTSTART;VALUE=DATE:20260911
DTEND;VALUE=DATE:20260912
END:VEVENT
END:VCALENDAR