BEGIN:VCALENDAR
VERSION:2.0
METHOD:PUBLISH
PRODID:HARDFORCE-Calendar-v1
CALSCALE:GREGORIAN
BEGIN:VTIMEZONE
TZID:Europe/Paris
X-LIC-LOCATION:Europe/Paris
BEGIN:DAYLIGHT
TZOFFSETFROM:+0100
TZOFFSETTO:+0200
TZNAME:CEST
DTSTART:19700329T020000
RRULE:FREQ=YEARLY;BYMONTH=3;BYDAY=-1SU
END:DAYLIGHT
BEGIN:STANDARD
TZOFFSETFROM:+0200
TZOFFSETTO:+0100
TZNAME:CET
DTSTART:19701025T030000
RRULE:FREQ=YEARLY;BYMONTH=10;BYDAY=-1SU
END:STANDARD
END:VTIMEZONE
BEGIN:VEVENT
UID:69ecd739b797d-concert-17877
DTSTAMP:20260425T170113Z
CATEGORIES:concert
LOCATION:L'Alhambra - Paris\, France
DESCRIPTION:Walter Trout Band (tête d'affiche)
URL;VALUE=URI:https://hardforce.com/concert/17877/walter-trout-2026-10-24
SUMMARY:Walter Trout
DTSTART;VALUE=DATE:20261024
DTEND;VALUE=DATE:20261025
END:VEVENT
END:VCALENDAR